BEGIN:VCALENDAR
VERSION:2.0
PRODID:-//Fishbowl United Sportsmen's Club - ECPv6.15.20//NONSGML v1.0//EN
CALSCALE:GREGORIAN
METHOD:PUBLISH
X-WR-CALNAME:Fishbowl United Sportsmen's Club
X-ORIGINAL-URL:https://fishbowlusc.com
X-WR-CALDESC:Events for Fishbowl United Sportsmen's Club
REFRESH-INTERVAL;VALUE=DURATION:PT1H
X-Robots-Tag:noindex
X-PUBLISHED-TTL:PT1H
BEGIN:VTIMEZONE
TZID:America/Chicago
BEGIN:DAYLIGHT
TZOFFSETFROM:-0600
TZOFFSETTO:-0500
TZNAME:CDT
DTSTART:20250309T080000
END:DAYLIGHT
BEGIN:STANDARD
TZOFFSETFROM:-0500
TZOFFSETTO:-0600
TZNAME:CST
DTSTART:20251102T070000
END:STANDARD
BEGIN:DAYLIGHT
TZOFFSETFROM:-0600
TZOFFSETTO:-0500
TZNAME:CDT
DTSTART:20260308T080000
END:DAYLIGHT
BEGIN:STANDARD
TZOFFSETFROM:-0500
TZOFFSETTO:-0600
TZNAME:CST
DTSTART:20261101T070000
END:STANDARD
BEGIN:DAYLIGHT
TZOFFSETFROM:-0600
TZOFFSETTO:-0500
TZNAME:CDT
DTSTART:20270314T080000
END:DAYLIGHT
BEGIN:STANDARD
TZOFFSETFROM:-0500
TZOFFSETTO:-0600
TZNAME:CST
DTSTART:20271107T070000
END:STANDARD
END:VTIMEZONE
BEGIN:VEVENT
DTSTART;TZID=America/Chicago:20260122T170000
DTEND;TZID=America/Chicago:20260122T180000
DTSTAMP:20260424T032022
CREATED:20260118T214847Z
LAST-MODIFIED:20260118T214847Z
UID:325-1769101200-1769104800@fishbowlusc.com
SUMMARY:Annual Meeting
DESCRIPTION:The Annual Meeting of the club members and election of the board will take place on January 22nd at 5:00 PM.  The meeting will be held at the Pheasant Inn\, Siren.
URL:https://fishbowlusc.com/event/annual-meeting/
LOCATION:The Pheasant Inn and Sports Bar\, 7694 W Main St\, Siren\, WI\, 54872
CATEGORIES:Administrative
END:VEVENT
BEGIN:VEVENT
DTSTART;TZID=America/Chicago:20260225T180000
DTEND;TZID=America/Chicago:20260225T190000
DTSTAMP:20260424T032022
CREATED:20260212T213755Z
LAST-MODIFIED:20260212T213755Z
UID:339-1772042400-1772046000@fishbowlusc.com
SUMMARY:Trap League Planning Meeting
DESCRIPTION:We will meet at The Pheasant Inn on Wednesday\, 25 February\, at 6:00 PM\, to plan out the 2026 Trap League Season schedule\, format\, and rules.
URL:https://fishbowlusc.com/event/trap-league-planning-meeting-2/
LOCATION:The Pheasant Inn and Sports Bar\, 7694 W Main St\, Siren\, WI\, 54872
CATEGORIES:Competition,Trap
END:VEVENT
BEGIN:VEVENT
DTSTART;TZID=America/Chicago:20260321T090000
DTEND;TZID=America/Chicago:20260321T170000
DTSTAMP:20260424T032022
CREATED:20260127T180958Z
LAST-MODIFIED:20260127T181059Z
UID:332-1774083600-1774112400@fishbowlusc.com
SUMMARY:Hunter Safety - Day 1
DESCRIPTION:The spring hunter safety classes are scheduled for March 21st and 28th.  Must attend both days. \nThe 21st will be at the Webster High School. \nThe 28th will be at the Fishbowl United Sportsmen’s Club. \nMust sign up on the WI DNR Go Wild Website.
URL:https://fishbowlusc.com/event/hunter-safety-day-1-2/
LOCATION:Webster High School\, 7564 W Alder St\, Webster\, WI\, 54893
CATEGORIES:Education
END:VEVENT
BEGIN:VEVENT
DTSTART;TZID=America/Chicago:20260328T090000
DTEND;TZID=America/Chicago:20260328T170000
DTSTAMP:20260424T032022
CREATED:20260127T181043Z
LAST-MODIFIED:20260127T181043Z
UID:334-1774688400-1774717200@fishbowlusc.com
SUMMARY:Hunter Safety - Day 2
DESCRIPTION:The spring hunter safety classes are scheduled for March 21st and 28th.  Must attend both days. \nThe 21st will be at the Webster High School. \nThe 28th will be at the Fishbowl United Sportsmen’s Club. \nMust sign up on the WI DNR Go Wild Website.
URL:https://fishbowlusc.com/event/hunter-safety-day-2-2/
LOCATION:Fishbowl United Sportsmen’s Club\, 25940 ST RD 35\, Webster\, 54893\, United States
CATEGORIES:Education
END:VEVENT
BEGIN:VEVENT
DTSTART;TZID=America/Chicago:20260407T163000
DTEND;TZID=America/Chicago:20260407T213000
DTSTAMP:20260424T032022
CREATED:20251204T153135Z
LAST-MODIFIED:20260122T205521Z
UID:263-1775579400-1775597400@fishbowlusc.com
SUMMARY:2nd Annual Guns and Gear Banquet-SOLD OUT
DESCRIPTION:The 2nd Annual Guns and Gear Banquet will be held on April 7th\, 2026\, at the Pheasant Inn & Sports Bar in Siren.  Seating will again be limited to 100 ticket holders.  Tickets go on sale January 1st. \nContact Dave Deal for more information or to purchase tickets. \n715-781-0123 \nsecretary@fishbowlusc.com \n2026_Banquet Poster \nBanquet sign-up sheet_2026
URL:https://fishbowlusc.com/event/2nd-annual-guns-and-gear-banquet/
LOCATION:The Pheasant Inn and Sports Bar\, 7694 W Main St\, Siren\, WI\, 54872
ORGANIZER;CN="FSC Banquet Committee":MAILTO:dave.deal@mfsguns.com
END:VEVENT
BEGIN:VEVENT
DTSTART;TZID=America/Chicago:20260422T160000
DTEND;TZID=America/Chicago:20260422T200000
DTSTAMP:20260424T032022
CREATED:20260302T234628Z
LAST-MODIFIED:20260302T234628Z
UID:347-1776873600-1776888000@fishbowlusc.com
SUMMARY:Club Opens\, First Trap Practice
DESCRIPTION:The club will open on April 22nd for the 2026 season.  Clubhouse hours will be 4-8 PM for the first day of Trap.
URL:https://fishbowlusc.com/event/club-opens-first-trap-practice/
LOCATION:Fishbowl United Sportsmen’s Club\, 25940 ST RD 35\, Webster\, 54893\, United States
CATEGORIES:Administrative,Competition,Trap
END:VEVENT
BEGIN:VEVENT
DTSTART;TZID=America/Chicago:20260426T110000
DTEND;TZID=America/Chicago:20260426T150000
DTSTAMP:20260424T032022
CREATED:20260420T190306Z
LAST-MODIFIED:20260420T190306Z
UID:364-1777201200-1777215600@fishbowlusc.com
SUMMARY:Learn to Shoot Trap
DESCRIPTION:The club is offering an opportunity for anyone that would like to learn to shoot trap.  We will have an instructor available from 11:00 AM to 3:00 PM on April 26th and May 3rd.  If you are interested\, come to the clubhouse during those hours and let someone know that you are there to learn to shoot trap.  Attendees need to bring a shotgun and shells (shells are available for sale at the clubhouse).  Attendees must be 18 or accompanied by a responsible adult.  Contact Troy Jorgenson for more information\, 715-529-0308.
URL:https://fishbowlusc.com/event/learn-to-shoot-trap/
LOCATION:Fishbowl United Sportsmen’s Club\, 25940 ST RD 35\, Webster\, 54893\, United States
CATEGORIES:Education,Trap
END:VEVENT
BEGIN:VEVENT
DTSTART;TZID=America/Chicago:20260503T110000
DTEND;TZID=America/Chicago:20260503T150000
DTSTAMP:20260424T032022
CREATED:20260420T190349Z
LAST-MODIFIED:20260420T190349Z
UID:366-1777806000-1777820400@fishbowlusc.com
SUMMARY:Learn to Shoot Trap
DESCRIPTION:The club is offering an opportunity for anyone that would like to learn to shoot trap.  We will have an instructor available from 11:00 AM to 3:00 PM on April 26th and May 3rd.  If you are interested\, come to the clubhouse during those hours and let someone know that you are there to learn to shoot trap.  Attendees need to bring a shotgun and shells (shells are available for sale at the clubhouse).  Attendees must be 18 or accompanied by a responsible adult.  Contact Troy Jorgenson for more information\, 715-529-0308.
URL:https://fishbowlusc.com/event/learn-to-shoot-trap-2/
LOCATION:Fishbowl United Sportsmen’s Club\, 25940 ST RD 35\, Webster\, 54893\, United States
CATEGORIES:Education,Trap
END:VEVENT
BEGIN:VEVENT
DTSTART;TZID=America/Chicago:20260506T160000
DTEND;TZID=America/Chicago:20260506T200000
DTSTAMP:20260424T032022
CREATED:20260303T004824Z
LAST-MODIFIED:20260303T004824Z
UID:358-1778083200-1778097600@fishbowlusc.com
SUMMARY:First Day of 2026 Trap League
DESCRIPTION:This is the first day that teams may shoot for score.
URL:https://fishbowlusc.com/event/first-day-of-2026-trap-league/
LOCATION:Fishbowl United Sportsmen’s Club\, 25940 ST RD 35\, Webster\, 54893\, United States
CATEGORIES:Competition,Trap
END:VEVENT
BEGIN:VEVENT
DTSTART;TZID=America/Chicago:20260726T090000
DTEND;TZID=America/Chicago:20260726T170000
DTSTAMP:20260424T032022
CREATED:20260403T180907Z
LAST-MODIFIED:20260403T180907Z
UID:360-1785056400-1785085200@fishbowlusc.com
SUMMARY:Indianhead Trap League Shoot
DESCRIPTION:Fishbowl will be hosting the Indianhead Trap League shoot on July 26th.  Official shooting hours are from 9:00 AM to 5:00 PM.  More info will be added here as the details are worked out. \n 
URL:https://fishbowlusc.com/event/indianhead-trap-league-shoot/
LOCATION:Fishbowl United Sportsmen’s Club\, 25940 ST RD 35\, Webster\, 54893\, United States
CATEGORIES:Competition,Trap
END:VEVENT
BEGIN:VEVENT
DTSTART;TZID=America/Chicago:20260909T160000
DTEND;TZID=America/Chicago:20260909T200000
DTSTAMP:20260424T032022
CREATED:20260303T004552Z
LAST-MODIFIED:20260303T004552Z
UID:356-1788969600-1788984000@fishbowlusc.com
SUMMARY:Trap League Awards and Dinner
DESCRIPTION:Trap League Awards and fun night\, pot-luck dinner.  4-8 PM on September 9th.
URL:https://fishbowlusc.com/event/trap-league-awards-and-dinner/
LOCATION:Fishbowl United Sportsmen’s Club\, 25940 ST RD 35\, Webster\, 54893\, United States
CATEGORIES:Social,Trap
END:VEVENT
END:VCALENDAR