BEGIN:VCALENDAR
VERSION:2.0
PRODID:-//Fishbowl United Sportsmen's Club - ECPv6.15.20//NONSGML v1.0//EN
CALSCALE:GREGORIAN
METHOD:PUBLISH
X-WR-CALNAME:Fishbowl United Sportsmen's Club
X-ORIGINAL-URL:http://fishbowlusc.com
X-WR-CALDESC:Events for Fishbowl United Sportsmen's Club
REFRESH-INTERVAL;VALUE=DURATION:PT1H
X-Robots-Tag:noindex
X-PUBLISHED-TTL:PT1H
BEGIN:VTIMEZONE
TZID:America/Chicago
BEGIN:DAYLIGHT
TZOFFSETFROM:-0600
TZOFFSETTO:-0500
TZNAME:CDT
DTSTART:20240310T080000
END:DAYLIGHT
BEGIN:STANDARD
TZOFFSETFROM:-0500
TZOFFSETTO:-0600
TZNAME:CST
DTSTART:20241103T070000
END:STANDARD
BEGIN:DAYLIGHT
TZOFFSETFROM:-0600
TZOFFSETTO:-0500
TZNAME:CDT
DTSTART:20250309T080000
END:DAYLIGHT
BEGIN:STANDARD
TZOFFSETFROM:-0500
TZOFFSETTO:-0600
TZNAME:CST
DTSTART:20251102T070000
END:STANDARD
BEGIN:DAYLIGHT
TZOFFSETFROM:-0600
TZOFFSETTO:-0500
TZNAME:CDT
DTSTART:20260308T080000
END:DAYLIGHT
BEGIN:STANDARD
TZOFFSETFROM:-0500
TZOFFSETTO:-0600
TZNAME:CST
DTSTART:20261101T070000
END:STANDARD
END:VTIMEZONE
BEGIN:VEVENT
DTSTART;TZID=America/Chicago:20250831T110000
DTEND;TZID=America/Chicago:20250831T150000
DTSTAMP:20260423T171108
CREATED:20250619T155707Z
LAST-MODIFIED:20250716T020934Z
UID:215-1756638000-1756652400@fishbowlusc.com
SUMMARY:Sunday Funday
DESCRIPTION:Sunday Funday at the Fishbowl United Sportsmen’s Club from 11:00 AM – 3:00 PM. $2 beers\, $3 Drinks. Meat Raffle starts at 1:00 PM. Open to the public. Trap shooting 11 – 3. Archery Range\, Pistol Range\, and 100 yd Rifle Range open all day. (200 yd Rifle Range closed during trap shooting.)\nMEMBERSHIP NOT REQUIRED
URL:http://fishbowlusc.com/event/sunday-funday-14/
LOCATION:Fishbowl United Sportsmen’s Club\, 25940 ST RD 35\, Webster\, 54893\, United States
CATEGORIES:Social
END:VEVENT
BEGIN:VEVENT
DTSTART;TZID=America/Chicago:20250824T110000
DTEND;TZID=America/Chicago:20250824T150000
DTSTAMP:20260423T171108
CREATED:20250619T155628Z
LAST-MODIFIED:20250716T021005Z
UID:213-1756033200-1756047600@fishbowlusc.com
SUMMARY:Sunday Funday
DESCRIPTION:Sunday Funday at the Fishbowl United Sportsmen’s Club from 11:00 AM – 3:00 PM. $2 beers\, $3 Drinks. Meat Raffle starts at 1:00 PM. Open to the public. Trap shooting 11 – 3. Archery Range\, Pistol Range\, and 100 yd Rifle Range open all day. (200 yd Rifle Range closed during trap shooting.)\nMEMBERSHIP NOT REQUIRED
URL:http://fishbowlusc.com/event/sunday-funday-13/
LOCATION:Fishbowl United Sportsmen’s Club\, 25940 ST RD 35\, Webster\, 54893\, United States
CATEGORIES:Social
END:VEVENT
BEGIN:VEVENT
DTSTART;TZID=America/Chicago:20250817T110000
DTEND;TZID=America/Chicago:20250817T150000
DTSTAMP:20260423T171108
CREATED:20250619T155548Z
LAST-MODIFIED:20250716T021018Z
UID:211-1755428400-1755442800@fishbowlusc.com
SUMMARY:Sunday Funday
DESCRIPTION:Sunday Funday at the Fishbowl United Sportsmen’s Club from 11:00 AM – 3:00 PM. $2 beers\, $3 Drinks. Meat Raffle starts at 1:00 PM. Open to the public. Trap shooting 11 – 3. Archery Range\, Pistol Range\, and 100 yd Rifle Range open all day. (200 yd Rifle Range closed during trap shooting.)\nMEMBERSHIP NOT REQUIRED
URL:http://fishbowlusc.com/event/sunday-funday-12/
LOCATION:Fishbowl United Sportsmen’s Club\, 25940 ST RD 35\, Webster\, 54893\, United States
CATEGORIES:Social
END:VEVENT
BEGIN:VEVENT
DTSTART;TZID=America/Chicago:20250810T110000
DTEND;TZID=America/Chicago:20250810T150000
DTSTAMP:20260423T171108
CREATED:20250619T155500Z
LAST-MODIFIED:20250716T021030Z
UID:209-1754823600-1754838000@fishbowlusc.com
SUMMARY:Sunday Funday
DESCRIPTION:Sunday Funday at the Fishbowl United Sportsmen’s Club from 11:00 AM – 3:00 PM. $2 beers\, $3 Drinks. Meat Raffle starts at 1:00 PM. Open to the public. Trap shooting 11 – 3. Archery Range\, Pistol Range\, and 100 yd Rifle Range open all day. (200 yd Rifle Range closed during trap shooting.)\nMEMBERSHIP NOT REQUIRED
URL:http://fishbowlusc.com/event/sunday-funday-11/
LOCATION:Fishbowl United Sportsmen’s Club\, 25940 ST RD 35\, Webster\, 54893\, United States
CATEGORIES:Social
END:VEVENT
BEGIN:VEVENT
DTSTART;TZID=America/Chicago:20250803T110000
DTEND;TZID=America/Chicago:20250803T150000
DTSTAMP:20260423T171108
CREATED:20250619T155418Z
LAST-MODIFIED:20250716T021042Z
UID:207-1754218800-1754233200@fishbowlusc.com
SUMMARY:Sunday Funday
DESCRIPTION:Sunday Funday at the Fishbowl United Sportsmen’s Club from 11:00 AM – 3:00 PM. $2 beers\, $3 Drinks. Meat Raffle starts at 1:00 PM. Open to the public. Trap shooting 11 – 3. Archery Range\, Pistol Range\, and 100 yd Rifle Range open all day. (200 yd Rifle Range closed during trap shooting.)\nMEMBERSHIP NOT REQUIRED
URL:http://fishbowlusc.com/event/sunday-funday-10/
LOCATION:Fishbowl United Sportsmen’s Club\, 25940 ST RD 35\, Webster\, 54893\, United States
CATEGORIES:Social
END:VEVENT
BEGIN:VEVENT
DTSTART;TZID=America/Chicago:20250727T110000
DTEND;TZID=America/Chicago:20250727T150000
DTSTAMP:20260423T171108
CREATED:20250619T155328Z
LAST-MODIFIED:20250716T021055Z
UID:205-1753614000-1753628400@fishbowlusc.com
SUMMARY:Sunday Funday
DESCRIPTION:Sunday Funday at the Fishbowl United Sportsmen’s Club from 11:00 AM – 3:00 PM. $2 beers\, $3 Drinks. Meat Raffle starts at 1:00 PM. Open to the public. Trap shooting 11 – 3. Archery Range\, Pistol Range\, and 100 yd Rifle Range open all day. (200 yd Rifle Range closed during trap shooting.)\nMEMBERSHIP NOT REQUIRED
URL:http://fishbowlusc.com/event/sunday-funday-9/
LOCATION:Fishbowl United Sportsmen’s Club\, 25940 ST RD 35\, Webster\, 54893\, United States
CATEGORIES:Social
END:VEVENT
BEGIN:VEVENT
DTSTART;TZID=America/Chicago:20250720T110000
DTEND;TZID=America/Chicago:20250720T150000
DTSTAMP:20260423T171108
CREATED:20250619T155238Z
LAST-MODIFIED:20250716T021108Z
UID:203-1753009200-1753023600@fishbowlusc.com
SUMMARY:Sunday Funday
DESCRIPTION:Sunday Funday at the Fishbowl United Sportsmen’s Club from 11:00 AM – 3:00 PM. $2 beers\, $3 Drinks. Meat Raffle starts at 1:00 PM. Open to the public. Trap shooting 11 – 3. Archery Range\, Pistol Range\, and 100 yd Rifle Range open all day. (200 yd Rifle Range closed during trap shooting.)\nMEMBERSHIP NOT REQUIRED
URL:http://fishbowlusc.com/event/sunday-funday-8/
LOCATION:Fishbowl United Sportsmen’s Club\, 25940 ST RD 35\, Webster\, 54893\, United States
CATEGORIES:Social
END:VEVENT
BEGIN:VEVENT
DTSTART;TZID=America/Chicago:20250713T110000
DTEND;TZID=America/Chicago:20250713T150000
DTSTAMP:20260423T171108
CREATED:20250619T155159Z
LAST-MODIFIED:20250716T021120Z
UID:201-1752404400-1752418800@fishbowlusc.com
SUMMARY:Sunday Funday
DESCRIPTION:Sunday Funday at the Fishbowl United Sportsmen’s Club from 11:00 AM – 3:00 PM. $2 beers\, $3 Drinks. Meat Raffle starts at 1:00 PM. Open to the public. Trap shooting 11 – 3. Archery Range\, Pistol Range\, and 100 yd Rifle Range open all day. (200 yd Rifle Range closed during trap shooting.)\nMEMBERSHIP NOT REQUIRED
URL:http://fishbowlusc.com/event/sunday-funday-7/
LOCATION:Fishbowl United Sportsmen’s Club\, 25940 ST RD 35\, Webster\, 54893\, United States
CATEGORIES:Social
END:VEVENT
BEGIN:VEVENT
DTSTART;TZID=America/Chicago:20250709T150000
DTEND;TZID=America/Chicago:20250709T210000
DTSTAMP:20260423T171108
CREATED:20250619T175832Z
LAST-MODIFIED:20250716T021133Z
UID:217-1752073200-1752094800@fishbowlusc.com
SUMMARY:Club Shoot and Picnic
DESCRIPTION:Details to be added later.
URL:http://fishbowlusc.com/event/club-shoot-and-picnic/
LOCATION:Fishbowl United Sportsmen’s Club\, 25940 ST RD 35\, Webster\, 54893\, United States
CATEGORIES:Social
END:VEVENT
BEGIN:VEVENT
DTSTART;TZID=America/Chicago:20250706T110000
DTEND;TZID=America/Chicago:20250706T150000
DTSTAMP:20260423T171108
CREATED:20250619T155126Z
LAST-MODIFIED:20250716T021156Z
UID:199-1751799600-1751814000@fishbowlusc.com
SUMMARY:Sunday Funday
DESCRIPTION:Sunday Funday at the Fishbowl United Sportsmen’s Club from 11:00 AM – 3:00 PM. $2 beers\, $3 Drinks. Meat Raffle starts at 1:00 PM. Open to the public. Trap shooting 11 – 3. Archery Range\, Pistol Range\, and 100 yd Rifle Range open all day. (200 yd Rifle Range closed during trap shooting.)\nMEMBERSHIP NOT REQUIRED
URL:http://fishbowlusc.com/event/sunday-funday-6/
LOCATION:Fishbowl United Sportsmen’s Club\, 25940 ST RD 35\, Webster\, 54893\, United States
CATEGORIES:Social
END:VEVENT
BEGIN:VEVENT
DTSTART;TZID=America/Chicago:20250629T110000
DTEND;TZID=America/Chicago:20250629T150000
DTSTAMP:20260423T171108
CREATED:20250619T155035Z
LAST-MODIFIED:20250716T021209Z
UID:197-1751194800-1751209200@fishbowlusc.com
SUMMARY:Sunday Funday
DESCRIPTION:Sunday Funday at the Fishbowl United Sportsmen’s Club from 11:00 AM – 3:00 PM. $2 beers\, $3 Drinks. Meat Raffle starts at 1:00 PM. Open to the public. Trap shooting 11 – 3. Archery Range\, Pistol Range\, and 100 yd Rifle Range open all day. (200 yd Rifle Range closed during trap shooting.)\nMEMBERSHIP NOT REQUIRED
URL:http://fishbowlusc.com/event/sunday-funday-5/
LOCATION:Fishbowl United Sportsmen’s Club\, 25940 ST RD 35\, Webster\, 54893\, United States
CATEGORIES:Social
END:VEVENT
BEGIN:VEVENT
DTSTART;TZID=America/Chicago:20250622T110000
DTEND;TZID=America/Chicago:20250622T150000
DTSTAMP:20260423T171108
CREATED:20250604T145827Z
LAST-MODIFIED:20250716T021218Z
UID:194-1750590000-1750604400@fishbowlusc.com
SUMMARY:Sunday Funday
DESCRIPTION:Sunday Funday at the Fishbowl United Sportsmen’s Club from 11:00 AM – 3:00 PM. $2 beers\, $3 Drinks. Meat Raffle starts at 1:00 PM. Open to the public. Trap shooting 11 – 3. Archery Range\, Pistol Range\, and 100 yd Rifle Range open all day. (200 yd Rifle Range closed during trap shooting.)\nMEMBERSHIP NOT REQUIRED
URL:http://fishbowlusc.com/event/sunday-funday-4/
LOCATION:Fishbowl United Sportsmen’s Club\, 25940 ST RD 35\, Webster\, 54893\, United States
CATEGORIES:Social
END:VEVENT
BEGIN:VEVENT
DTSTART;TZID=America/Chicago:20250615T110000
DTEND;TZID=America/Chicago:20250615T150000
DTSTAMP:20260423T171108
CREATED:20250604T145751Z
LAST-MODIFIED:20250716T021228Z
UID:192-1749985200-1749999600@fishbowlusc.com
SUMMARY:Sunday Funday
DESCRIPTION:Sunday Funday at the Fishbowl United Sportsmen’s Club from 11:00 AM – 3:00 PM. $2 beers\, $3 Drinks. Meat Raffle starts at 1:00 PM. Open to the public. Trap shooting 11 – 3. Archery Range\, Pistol Range\, and 100 yd Rifle Range open all day. (200 yd Rifle Range closed during trap shooting.)\nMEMBERSHIP NOT REQUIRED
URL:http://fishbowlusc.com/event/sunday-funday-3/
LOCATION:Fishbowl United Sportsmen’s Club\, 25940 ST RD 35\, Webster\, 54893\, United States
CATEGORIES:Social
END:VEVENT
BEGIN:VEVENT
DTSTART;TZID=America/Chicago:20250608T110000
DTEND;TZID=America/Chicago:20250608T150000
DTSTAMP:20260423T171108
CREATED:20250529T221518Z
LAST-MODIFIED:20250716T021251Z
UID:188-1749380400-1749394800@fishbowlusc.com
SUMMARY:Sunday Funday
DESCRIPTION:Sunday Funday at the Fishbowl United Sportsmen’s Club from 11:00 AM – 3:00 PM. $2 beers\, $3 Drinks. Meat Raffle starts at 1:00 PM. Open to the public. Trap shooting 11 – 3. Archery Range\, Pistol Range\, and 100 yd Rifle Range open all day. (200 yd Rifle Range closed during trap shooting.)\nMEMBERSHIP NOT REQUIRED
URL:http://fishbowlusc.com/event/sunday-funday-2/
LOCATION:Fishbowl United Sportsmen’s Club\, 25940 ST RD 35\, Webster\, 54893\, United States
CATEGORIES:Social
END:VEVENT
BEGIN:VEVENT
DTSTART;TZID=America/Chicago:20250601T110000
DTEND;TZID=America/Chicago:20250601T150000
DTSTAMP:20260423T171108
CREATED:20250529T221435Z
LAST-MODIFIED:20250716T021304Z
UID:186-1748775600-1748790000@fishbowlusc.com
SUMMARY:Sunday Funday
DESCRIPTION:Sunday Funday at the Fishbowl United Sportsmen’s Club from 11:00 AM – 3:00 PM. $2 beers\, $3 Drinks. Meat Raffle starts at 1:00 PM. Open to the public. Trap shooting 11 – 3. Archery Range\, Pistol Range\, and 100 yd Rifle Range open all day. (200 yd Rifle Range closed during trap shooting.)\nMEMBERSHIP NOT REQUIRED
URL:http://fishbowlusc.com/event/sunday-funday/
LOCATION:Fishbowl United Sportsmen’s Club\, 25940 ST RD 35\, Webster\, 54893\, United States
CATEGORIES:Social
END:VEVENT
END:VCALENDAR