BEGIN:VCALENDAR
VERSION:2.0
PRODID:-//Fishbowl United Sportsmen's Club - ECPv6.15.20//NONSGML v1.0//EN
CALSCALE:GREGORIAN
METHOD:PUBLISH
X-WR-CALNAME:Fishbowl United Sportsmen's Club
X-ORIGINAL-URL:http://fishbowlusc.com
X-WR-CALDESC:Events for Fishbowl United Sportsmen's Club
REFRESH-INTERVAL;VALUE=DURATION:PT1H
X-Robots-Tag:noindex
X-PUBLISHED-TTL:PT1H
BEGIN:VTIMEZONE
TZID:America/Chicago
BEGIN:DAYLIGHT
TZOFFSETFROM:-0600
TZOFFSETTO:-0500
TZNAME:CDT
DTSTART:20240310T080000
END:DAYLIGHT
BEGIN:STANDARD
TZOFFSETFROM:-0500
TZOFFSETTO:-0600
TZNAME:CST
DTSTART:20241103T070000
END:STANDARD
BEGIN:DAYLIGHT
TZOFFSETFROM:-0600
TZOFFSETTO:-0500
TZNAME:CDT
DTSTART:20250309T080000
END:DAYLIGHT
BEGIN:STANDARD
TZOFFSETFROM:-0500
TZOFFSETTO:-0600
TZNAME:CST
DTSTART:20251102T070000
END:STANDARD
BEGIN:DAYLIGHT
TZOFFSETFROM:-0600
TZOFFSETTO:-0500
TZNAME:CDT
DTSTART:20260308T080000
END:DAYLIGHT
BEGIN:STANDARD
TZOFFSETFROM:-0500
TZOFFSETTO:-0600
TZNAME:CST
DTSTART:20261101T070000
END:STANDARD
BEGIN:DAYLIGHT
TZOFFSETFROM:-0600
TZOFFSETTO:-0500
TZNAME:CDT
DTSTART:20270314T080000
END:DAYLIGHT
BEGIN:STANDARD
TZOFFSETFROM:-0500
TZOFFSETTO:-0600
TZNAME:CST
DTSTART:20271107T070000
END:STANDARD
END:VTIMEZONE
BEGIN:VEVENT
DTSTART;TZID=America/Chicago:20260422T160000
DTEND;TZID=America/Chicago:20260422T200000
DTSTAMP:20260423T204832
CREATED:20260302T234628Z
LAST-MODIFIED:20260302T234628Z
UID:347-1776873600-1776888000@fishbowlusc.com
SUMMARY:Club Opens\, First Trap Practice
DESCRIPTION:The club will open on April 22nd for the 2026 season.  Clubhouse hours will be 4-8 PM for the first day of Trap.
URL:http://fishbowlusc.com/event/club-opens-first-trap-practice/
LOCATION:Fishbowl United Sportsmen’s Club\, 25940 ST RD 35\, Webster\, 54893\, United States
CATEGORIES:Administrative,Competition,Trap
END:VEVENT
BEGIN:VEVENT
DTSTART;TZID=America/Chicago:20260122T170000
DTEND;TZID=America/Chicago:20260122T180000
DTSTAMP:20260423T204832
CREATED:20260118T214847Z
LAST-MODIFIED:20260118T214847Z
UID:325-1769101200-1769104800@fishbowlusc.com
SUMMARY:Annual Meeting
DESCRIPTION:The Annual Meeting of the club members and election of the board will take place on January 22nd at 5:00 PM.  The meeting will be held at the Pheasant Inn\, Siren.
URL:http://fishbowlusc.com/event/annual-meeting/
LOCATION:The Pheasant Inn and Sports Bar\, 7694 W Main St\, Siren\, WI\, 54872
CATEGORIES:Administrative
END:VEVENT
BEGIN:VEVENT
DTSTART;TZID=America/Chicago:20250821T170000
DTEND;TZID=America/Chicago:20250821T180000
DTSTAMP:20260423T204832
CREATED:20250716T020851Z
LAST-MODIFIED:20250716T020851Z
UID:230-1755795600-1755799200@fishbowlusc.com
SUMMARY:Monthly Member / Board Meeting
DESCRIPTION:Monthly Member / Board Meeting will be at the clubhouse\, on August 21st\, at 5:00 PM
URL:http://fishbowlusc.com/event/monthly-member-board-meeting-4/
LOCATION:Fishbowl United Sportsmen’s Club\, 25940 ST RD 35\, Webster\, 54893\, United States
CATEGORIES:Administrative
END:VEVENT
BEGIN:VEVENT
DTSTART;TZID=America/Chicago:20250717T170000
DTEND;TZID=America/Chicago:20250717T180000
DTSTAMP:20260423T204832
CREATED:20250716T020723Z
LAST-MODIFIED:20250716T020913Z
UID:228-1752771600-1752775200@fishbowlusc.com
SUMMARY:Monthly Member / Board Meeting
DESCRIPTION:Monthly Member / Board Meeting will be at the clubhouse\, on July 17th\, at 5:00 PM
URL:http://fishbowlusc.com/event/monthly-member-board-meeting-3/
LOCATION:Fishbowl United Sportsmen’s Club\, 25940 ST RD 35\, Webster\, 54893\, United States
CATEGORIES:Administrative
END:VEVENT
BEGIN:VEVENT
DTSTART;TZID=America/Chicago:20250612T170000
DTEND;TZID=America/Chicago:20250612T180000
DTSTAMP:20260423T204832
CREATED:20250604T145634Z
LAST-MODIFIED:20250716T021239Z
UID:190-1749747600-1749751200@fishbowlusc.com
SUMMARY:Member / Board Meeting
DESCRIPTION:The monthly meeting will be on the second Thursday this month\, 5:00 PM\, at the club.
URL:http://fishbowlusc.com/event/member-board-meeting/
LOCATION:Fishbowl United Sportsmen’s Club\, 25940 ST RD 35\, Webster\, 54893\, United States
CATEGORIES:Administrative
END:VEVENT
BEGIN:VEVENT
DTSTART;TZID=America/Chicago:20250515T170000
DTEND;TZID=America/Chicago:20250515T180000
DTSTAMP:20260423T204832
CREATED:20250513T025025Z
LAST-MODIFIED:20250716T021332Z
UID:182-1747328400-1747332000@fishbowlusc.com
SUMMARY:Monthly Board / Member Meeting
DESCRIPTION:
URL:http://fishbowlusc.com/event/monthly-board-member-meeting/
LOCATION:Fishbowl United Sportsmen’s Club\, 25940 ST RD 35\, Webster\, 54893\, United States
CATEGORIES:Administrative
END:VEVENT
BEGIN:VEVENT
DTSTART;TZID=America/Chicago:20250417T170000
DTEND;TZID=America/Chicago:20250417T180000
DTSTAMP:20260423T204832
CREATED:20250410T222038Z
LAST-MODIFIED:20250410T222038Z
UID:124-1744909200-1744912800@fishbowlusc.com
SUMMARY:Monthly Member / Board Meeting
DESCRIPTION:The Monthly Meeting will be held on the 17th\, 5:00 PM\, at the clubhouse.
URL:http://fishbowlusc.com/event/monthly-member-board-meeting-2/
LOCATION:Fishbowl United Sportsmen’s Club\, 25940 ST RD 35\, Webster\, 54893\, United States
CATEGORIES:Administrative
END:VEVENT
END:VCALENDAR